<?xml version="1.0"?>
<metadata xml:lang="en">
	<Esri>
		<CreaDate>20090429</CreaDate>
		<CreaTime>11502000</CreaTime>
		<SyncOnce>FALSE</SyncOnce>
		<DataProperties>
			<lineage>
				<Process Name="CreateRasterDataset_1" ToolSource="C:\Program Files\ArcGIS\ArcToolbox\Toolboxes\Data Management Tools.tbx\CreateRasterDataset" Date="20070821" Time="120334">CreateRasterDataset "Database Connections\10.18.8.94.depgisraster@DEP.sde" Ortho_2004_Coast_Color # 8_BIT_UNSIGNED PROJCS['NAD_1983_StatePlane_Connecticut_FIPS_0600_Feet',GEOGCS['GCS_North_American_1983',DATUM['D_North_American_1983',SPHEROID['GRS_1980',6378137.0,298.257222101]],PRIMEM['Greenwich',0.0],UNIT['Degree',0.0174532925199433]],PROJECTION['Lambert_Conformal_Conic'],PARAMETER['False_Easting',999999.999996],PARAMETER['False_Northing',499999.999998],PARAMETER['Central_Meridian',-72.75],PARAMETER['Standard_Parallel_1',41.2],PARAMETER['Standard_Parallel_2',41.86666666666667],PARAMETER['Latitude_Of_Origin',40.83333333333334],UNIT['Foot_US',0.3048006096012192]] 3 DEPRASTER "PYRAMIDS 8 BILINEAR" "128 128" "JPEG 90" "687800 1015180" "Database Connections\10.18.8.94.depgisraster@DEP.sde\depgisraster.DEP.Ortho_2004_Coast_Color"</Process>
				<Process Name="Mosaic_2" ToolSource="C:\Program Files\ArcGIS\ArcToolbox\Toolboxes\Data Management Tools.tbx\Mosaic" Date="20070821" Time="121627">Mosaic P:\tif_format\18TXL048464.tif "Database Connections\10.18.8.94.depgisraster@DEP.sde\DEPGISRASTER.DEP.ORTHO_2004_COAST_COLOR" LAST FIRST 1 # NONE 0 "Database Connections\10.18.8.94.depgisraster@DEP.sde\DEPGISRASTER.DEP.ORTHO_2004_COAST_COLOR"</Process>
				<Process Name="Mosaic_1" ToolSource="C:\Program Files\ArcGIS\ArcToolbox\Toolboxes\Data Management Tools.tbx\Mosaic" Date="20070821" Time="132414">Mosaic P:\tif_format\18TXL049394.tif; P:\tif_format\18TXL100534.tif; P:\tif_format\18TXL101464.tif; P:\tif_format\18TXL102395.tif; P:\tif_format\18TXL103326.tif "Database Connections\10.18.8.94.depgisraster@DEP.sde\DEPGISRASTER.DEP.ORTHO_2004_COAST_COLOR" LAST FIRST 1 # NONE 0 "Database Connections\10.18.8.94.depgisraster@DEP.sde\DEPGISRASTER.DEP.ORTHO_2004_COAST_COLOR"</Process>
				<Process Name="Mosaic_1" ToolSource="C:\Program Files\ArcGIS\ArcToolbox\Toolboxes\Data Management Tools.tbx\Mosaic" Date="20070822" Time="145227">Mosaic P:\tif_format\18TXL152535.tif; P:\tif_format\18TXL153465.tif; P:\tif_format\18TXL155396.tif; P:\tif_format\18TXL156326.tif; P:\tif_format\18TXL205535.tif; P:\tif_format\18TXL206466.tif; P:\tif_format\18TXL207397.tif; P:\tif_format\18TXL257536.tif; P:\tif_format\18TXL258467.tif; P:\tif_format\18TXL260398.tif "Database Connections\10.18.8.94.depgisraster@DEP_Direct.sde\DEPGISRASTER.DEP.ORTHO_2004_COAST_COLOR" LAST FIRST # 1 NONE 0 "Database Connections\10.18.8.94.depgisraster@DEP_Direct.sde\DEPGISRASTER.DEP.ORTHO_2004_COAST_COLOR"</Process>
				<Process Name="Mosaic_2" ToolSource="C:\Program Files\ArcGIS\ArcToolbox\Toolboxes\Data Management Tools.tbx\Mosaic" Date="20070823" Time="014027">Mosaic P:\tif_format\18TXL310537.tif; P:\tif_format\18TXL311468.tif; P:\tif_format\18TXL312399.tif; P:\tif_format\18TXL361608.tif; P:\tif_format\18TXL362538.tif; P:\tif_format\18TXL363469.tif; P:\tif_format\18TXL413609.tif; P:\tif_format\18TXL414539.tif; P:\tif_format\18TXL416470.tif; P:\tif_format\18TXL463748.tif; P:\tif_format\18TXL464679.tif; P:\tif_format\18TXL465610.tif; P:\tif_format\18TXL467540.tif; P:\tif_format\18TXL513819.tif; P:\tif_format\18TXL515750.tif; P:\tif_format\18TXL516680.tif; P:\tif_format\18TXL518611.tif; P:\tif_format\18TXL519541.tif; P:\tif_format\18TXL567751.tif; P:\tif_format\18TXL569681.tif; P:\tif_format\18TXL570612.tif; P:\tif_format\18TXL572542.tif; P:\tif_format\18TXL619752.tif; P:\tif_format\18TXL621682.tif; P:\tif_format\18TXL623613.tif; P:\tif_format\18TXL668892.tif; P:\tif_format\18TXL670822.tif; P:\tif_format\18TXL672753.tif; P:\tif_format\18TXL673684.tif; P:\tif_format\18TXL675614.tif; P:\tif_format\18TXL721893.tif; P:\tif_format\18TXL722824.tif; P:\tif_format\18TXL724754.tif; P:\tif_format\18TXL726685.tif; P:\tif_format\18TXL727615.tif; P:\tif_format\18TXL773894.tif; P:\tif_format\18TXL775825.tif; P:\tif_format\18TXL776755.tif; P:\tif_format\18TXL778686.tif; P:\tif_format\18TXL780617.tif; P:\tif_format\18TXL829757.tif; P:\tif_format\18TXL830687.tif; P:\tif_format\18TXL832618.tif; P:\tif_format\18TXL879827.tif; P:\tif_format\18TXL881758.tif; P:\tif_format\18TXL883689.tif; P:\tif_format\18TXL884619.tif "Database Connections\10.18.8.94.depgisraster@DEP_Direct.sde\DEPGISRASTER.DEP.ORTHO_2004_COAST_COLOR" LAST FIRST 1 # NONE 0 "Database Connections\10.18.8.94.depgisraster@DEP_Direct.sde\DEPGISRASTER.DEP.ORTHO_2004_COAST_COLOR"</Process>
				<Process Name="Mosaic_1" ToolSource="C:\Program Files\ArcGIS\ArcToolbox\Toolboxes\Data Management Tools.tbx\Mosaic" Date="20070823" Time="112123">Mosaic P:\tif_format\18TXL929898.tif; P:\tif_format\18TXL931829.tif; P:\tif_format\18TXL933759.tif; P:\tif_format\18TXL935690.tif; P:\tif_format\18TXL937621.tif; P:\tif_format\18TXL983830.tif; P:\tif_format\18TXL985761.tif; P:\tif_format\18TXL987692.tif; P:\tif_format\18TYL036832.tif; P:\tif_format\18TYL038762.tif; P:\tif_format\18TYL040693.tif; P:\tif_format\18TYL041624.tif; P:\tif_format\18TYL088833.tif; P:\tif_format\18TYL090764.tif; P:\tif_format\18TYL092694.tif; P:\tif_format\18TYL140835.tif; P:\tif_format\18TYL142765.tif; P:\tif_format\18TYL144696.tif "Database Connections\10.18.8.94.depgisraster@DEP_Direct.sde\DEPGISRASTER.DEP.ORTHO_2004_COAST_COLOR" LAST FIRST 1 # NONE 0 "Database Connections\10.18.8.94.depgisraster@DEP_Direct.sde\DEPGISRASTER.DEP.ORTHO_2004_COAST_COLOR"</Process>
				<Process Name="Mosaic_1" ToolSource="C:\Program Files\ArcGIS\ArcToolbox\Toolboxes\Data Management Tools.tbx\Mosaic" Date="20070823" Time="121859">Mosaic P:\tif_format\18TYL192836.tif "Database Connections\10.18.8.94.depgisraster@DEP_Direct.sde\DEPGISRASTER.DEP.ORTHO_2004_COAST_COLOR" LAST FIRST 1 # NONE 0 "Database Connections\10.18.8.94.depgisraster@DEP_Direct.sde\DEPGISRASTER.DEP.ORTHO_2004_COAST_COLOR"</Process>
				<Process Name="Mosaic_2" ToolSource="C:\Program Files\ArcGIS\ArcToolbox\Toolboxes\Data Management Tools.tbx\Mosaic" Date="20070823" Time="152959">Mosaic P:\tif_format\18TYL194767.tif; P:\tif_format\18TYL197698.tif; P:\tif_format\18TYL242907.tif; P:\tif_format\18TYL245838.tif; P:\tif_format\18TYL247769.tif; P:\tif_format\18TYL249699.tif; P:\tif_format\18TYL292978.tif; P:\tif_format\18TYL295909.tif; P:\tif_format\18TYL297840.tif; P:\tif_format\18TYL299770.tif; P:\tif_format\18TYL301701.tif; P:\tif_format\18TYL344980.tif; P:\tif_format\18TYL347911.tif; P:\tif_format\18TYL349841.tif "Database Connections\10.18.8.94.depgisraster@DEP_Direct.sde\DEPGISRASTER.DEP.ORTHO_2004_COAST_COLOR" LAST FIRST 1 # NONE 0 "Database Connections\10.18.8.94.depgisraster@DEP_Direct.sde\DEPGISRASTER.DEP.ORTHO_2004_COAST_COLOR"</Process>
				<Process Name="Mosaic_1" ToolSource="C:\Program Files\ArcGIS\ArcToolbox\Toolboxes\Data Management Tools.tbx\Mosaic" Date="20070823" Time="162749">Mosaic P:\tif_format\18TYL351772.tif; P:\tif_format\18TYL353702.tif; P:\tif_format\18TYL397982.tif; P:\tif_format\18TYL399912.tif "Database Connections\10.18.8.94.depgisraster@DEP_Direct.sde\DEPGISRASTER.DEP.ORTHO_2004_COAST_COLOR" LAST FIRST 1 # NONE 0 "Database Connections\10.18.8.94.depgisraster@DEP_Direct.sde\DEPGISRASTER.DEP.ORTHO_2004_COAST_COLOR"</Process>
				<Process Name="Mosaic_1" ToolSource="C:\Program Files\ArcGIS\ArcToolbox\Toolboxes\Data Management Tools.tbx\Mosaic" Date="20070823" Time="164718">Mosaic P:\tif_format\18TYL401843.tif "Database Connections\10.18.8.94.depgisraster@DEP_Direct.sde\DEPGISRASTER.DEP.ORTHO_2004_COAST_COLOR" LAST FIRST 1 # NONE 0 "Database Connections\10.18.8.94.depgisraster@DEP_Direct.sde\DEPGISRASTER.DEP.ORTHO_2004_COAST_COLOR"</Process>
				<Process Name="Mosaic_2" ToolSource="C:\Program Files\ArcGIS\ArcToolbox\Toolboxes\Data Management Tools.tbx\Mosaic" Date="20070823" Time="210455">Mosaic P:\tif_format\18TYL403774.tif; P:\tif_format\18TYL406704.tif; P:\tif_format\18TYL449984.tif; P:\tif_format\18TYL451914.tif; P:\tif_format\18TYL453845.tif; P:\tif_format\18TYL456775.tif; P:\tif_format\18TYL458706.tif; P:\tif_format\18TYL501985.tif; P:\tif_format\18TYL503916.tif; P:\tif_format\18TYL506847.tif; P:\tif_format\18TYL508777.tif; P:\tif_format\18TYL510708.tif; P:\tif_format\18TYL553987.tif; P:\tif_format\18TYL558848.tif; P:\tif_format\18TYL560779.tif; P:\tif_format\18TYL610850.tif; P:\tif_format\18TYL613781.tif; P:\tif_format\18TYM342049.tif; P:\tif_format\18TYM394051.tif; P:\tif_format\18TYM446053.tif; P:\tif_format\18TYM498055.tif "Database Connections\10.18.8.94.depgisraster@DEP_Direct.sde\DEPGISRASTER.DEP.ORTHO_2004_COAST_COLOR" LAST FIRST 1 # NONE 0 "Database Connections\10.18.8.94.depgisraster@DEP_Direct.sde\DEPGISRASTER.DEP.ORTHO_2004_COAST_COLOR"</Process>
			</lineage>
		</DataProperties>
		<ModDate>20090429</ModDate>
		<ModTime>12115200</ModTime>
		<SyncDate>20090429</SyncDate>
		<SyncTime>12115200</SyncTime>
		<MetaID>{0756331B-D481-4DFC-A8D5-AFA518EA7594}</MetaID>
	</Esri>
	<idinfo>
		<citation>
			<citeinfo>
				<title>Coastal Connecticut 2004 Color Orthophoto</title>
				<origin>NOAA Coastal Services Center (CSC)</origin>
				<pubdate>20041223</pubdate>
				<ftname Sync="TRUE">Ortho_2004_Coast_Color</ftname>
				<geoform Sync="TRUE">Fgdb raster digital data</geoform>
				<onlink>http://www.ct.gov/dep</onlink>
				<origin>U.S. Geological Survey (USGS)</origin>
				<othercit>Original Title: Connecticut Coastal ADS40 Digital Imagery Acquisition and Natural Color and Color Infrared Orthophoto Production. CT DEP mosaiced the ADS40 imagery from CSC and NOAA into a single raster dataset that covers the Connecticut coastline, projecting it to the Connecticut State Plane Coordinate System, NAD 83.</othercit>
				<pubinfo>
					<pubplace>Hartford, Connecticut, USA</pubplace>
					<publish>State of Connecticut, Department of Environmental Protection (CT DEP)</publish>
				</pubinfo>
			</citeinfo>
		</citation>
		<native>This raster mosaic is maintained by the State of Connecticut using ArcGIS software developed by Environmental Systems Research Institute (ESRI) in a Microsoft Windows operating system environment. Original Data Set Environment included Leica ADS40 Digital Camera System, ISTAR Digital Image Processing Software, Z/I Imaging Orthopro 4.0, Windows NT/2000 Systems.</native>
		<descript>
			<langdata Sync="TRUE">en</langdata>
			<abstract>Coastal Connecticut 2004 Color Orthophoto is a raster mosaic of ADS40 natual color digital imagery taken in September 2004 for Connecticut municipalities located along the Long Island Sound coastline. This is a raster mosaic of 122 quarter quadrangle natual color input rasters in GeoTIFF format.

An orthoimage is remotely sensed image data in which displacement of features in the image caused by terrain relief and sensor orientation have been mathematically removed. Orthoimagery combines the image characteristics of a photograph with the geometric qualities of a map.

This task consists of two primary components, ADS40 digital image acquisition and natural color and color infrared digital orthophoto production.  In addition to the orthophotos a reflective surface digital elevation data set covering the project area was produced.</abstract>
			<purpose>These data have been created as a result of the need for having geospatial data immediately available and easily accessible in order to enhance the capability of the NOAA Coastal Services Center (CSC) and the USGS.</purpose>
			<supplinf>The bounding coordinates provided within the Spatial Domain section represent a rectangle covering the total area in which the project is located. The actual project boundary located within this area is comprised of areas delimited by areas along the coast of the state of Connecticut.

The Coastal Connecticut project area is comprised of approximately 930 square miles.  A total of 244 orthos (122 natural color and 122 color infrared) were produced to cover this area.

Aerial imagery was collected in panchromatic, Red, Green, Blue and Near Infrared which yielded a natural color and false color infrared version of the completed digital orthophotography. In addition to producing the digital ortho imagery a first surface (reflective surface) elevation data set was produced. Imagery was collected at an approximate altitude of 15,750 feet above mean terrain.

The ADS40 digital camera system used in this project incorporates the latest in sensor technology, optics, electronics, data transfer, and storage. The ADS40 imagery is generated from seven parallel sensor lines in the focal plane of a single lens system, three panchromatic (forward, nadir, backward), red, green, and blue lines placed next to each other, and one infrared. Each panchromatic channel consists of two lines, each with 12,000 pixels, staggered (shifted with respect to each other) by 0.5 pixels. The viewing angles and characteristics of the sensor are as follows -
- Focal length 62.5mm
- Pixel size 6.5mm
- PAN 2 arrays 12,000 pixels each
- R,G,B and NIR,R,G 12,000 pixels
- Backward to nadir stereo angle -14.1 degrees
- Near infrared to nadir stereo angle -2.05 degrees
- Dynamic Range of CCD - 12-bits for all arrays for this dataset, the natural color and color infrared orthoimages were produced at 0.50-meter pixel resolution.

Each digital orthorectified quarter quad provides imagery for a nominal 3.75 by 3.75 minute area corresponding to the USGS quarter quad boundaries. The projected coordinate system is UTM (Zone 18) with a NAD83 datum. The naming convention is based on the National Grid.

Deliverables include -
- 24-Bit Natural Color in GeoTIFF format
- 24-Bit False Color Infrared in GeoTIFF format
- Reflective surface digital elevation data set in .flt</supplinf>
		</descript>
		<timeperd>
			<current>ground condition</current>
			<timeinfo>
				<mdattim>
					<sngdate>
						<caldate>20040920</caldate>
					</sngdate>
					<sngdate>
						<caldate>20040922</caldate>
					</sngdate>
				</mdattim>
			</timeinfo>
		</timeperd>
		<status>
			<progress>Complete</progress>
			<update>Unknown</update>
		</status>
		<spdom>
			<bounding>
				<westbc Sync="TRUE">-73.761209</westbc>
				<eastbc Sync="TRUE">-71.805454</eastbc>
				<northbc Sync="TRUE">41.629366</northbc>
				<southbc Sync="TRUE">40.934966</southbc>
			</bounding>
			<lboundng>
				<leftbc Sync="TRUE">723536.027547</leftbc>
				<rightbc Sync="TRUE">1258236.678901</rightbc>
				<bottombc Sync="TRUE">538631.267376</bottombc>
				<topbc Sync="TRUE">790047.283248</topbc>
			</lboundng>
		</spdom>
		<keywords>
			<theme>
				<themekt>ISO 19115 Topic Category</themekt>
				<themekey>imageryBaseMapsEarthCover</themekey>
			</theme>
			<place>
				<placekey>Connecticut</placekey>
				<placekt>U.S. Department of Commerce, 1987, Codes for the Identification of the States, the District of Columbia and the Outlying Areas of The United States, and Associated Areas (Federal Information Processing Standard 5-2): Washington, DC, National Institute of Standards and Technology.</placekt>
				<placekey>CT</placekey>
			</place>
			<theme>
				<themekt>none</themekt>
				<themekey>rectified imagery</themekey>
				<themekey>rectified image</themekey>
				<themekey>orthophoto</themekey>
				<themekey>Digital Orthophoto Quarter Quad (DOQQ)</themekey>
				<themekey>image map</themekey>
				<themekey>Natural Color DOQQ</themekey>
				<themekey>Color Infrared DOQQ</themekey>
			</theme>
		</keywords>
		<accconst>None. No restrictions or legal prerequisites for accessing the data. The data is in the public domain and may be redistributed.</accconst>
		<useconst>None. No restrictions or legal prerequisites for using the data after access is granted.</useconst>
		<natvform Sync="TRUE">File Geodatabase Raster Dataset</natvform>
		<datacred>EarthData International,  LLC</datacred>
		<secinfo>
			<secclass>Unclassified</secclass>
		</secinfo>
		<browse>
			<browsen>http://www.cteco.uconn.edu/metadata/dep/browsegraphic/orthophoto2004coastfullview.jpg</browsen>
			<browsed>Full view of Coastal Connecticut 2004 Color Orthophoto.</browsed>
			<browset>JPEG</browset>
		</browse>
		<browse>
			<browsen>http://www.cteco.uconn.edu/metadata/dep/browsegraphic/orthophoto2004coastdetailview.jpg</browsen>
			<browsed>Detail view of Coastal Connecticut 2004 Color Orthophoto within vicinity of the University of Connecticut at Avery Point in Groton, Connecticut.</browsed>
			<browset>JPEG</browset>
		</browse>
	</idinfo>
	<metainfo>
		<metd Sync="TRUE">20090429</metd>
		<langmeta Sync="TRUE">en</langmeta>
		<metstdn Sync="TRUE">FGDC Content Standards for Digital Geospatial Metadata</metstdn>
		<metstdv Sync="TRUE">FGDC-STD-001-1998</metstdv>
		<mettc Sync="TRUE">local time</mettc>
		<metc>
			<cntinfo>
				<cntorgp>
					<cntorg>NOAA Coastal Services Center. (Original metadata provided by NOAA was modified by CT DEP to document subsequent process steps and data distribution efforts implemented by CT DEP)</cntorg>
				</cntorgp>
				<cntaddr>
					<addrtype>mailing and physical address</addrtype>
					<city>Charleston</city>
					<state>SC</state>
					<postal>29405</postal>
					<address>2234 South Hobson Avenue</address>
					<country>USA</country>
				</cntaddr>
				<cntvoice>1-843-740-1227</cntvoice>
				<hours>Monday  -  Friday, 8:00AM  -  5:00PM (Eastern Time)</hours>
			</cntinfo>
		</metc>
		<metextns>
			<onlink Sync="TRUE">http://www.esri.com/metadata/esriprof80.html</onlink>
			<metprof Sync="TRUE">ESRI Metadata Profile</metprof>
		</metextns>
	</metainfo>
	<mdDateSt Sync="TRUE">20090429</mdDateSt>
	<dataIdInfo>
		<envirDesc Sync="TRUE">Microsoft Windows XP Version 5.1 (Build 2600) Service Pack 2; ESRI ArcCatalog 9.3.1.1850</envirDesc>
		<dataLang>
			<languageCode Sync="TRUE" value="en"/>
		</dataLang>
		<idCitation>
			<resTitle Sync="TRUE">Ortho_2004_Coast_Color</resTitle>
			<presForm>
				<PresFormCd Sync="TRUE" value="005"/>
			</presForm>
		</idCitation>
		<spatRpType>
			<SpatRepTypCd Sync="TRUE" value="002"/>
		</spatRpType>
		<dataExt>
			<geoEle>
				<GeoBndBox esriExtentType="native">
					<westBL Sync="TRUE">723536.027547</westBL>
					<eastBL Sync="TRUE">1258236.678901</eastBL>
					<northBL Sync="TRUE">790047.283248</northBL>
					<southBL Sync="TRUE">538631.267376</southBL>
					<exTypeCode Sync="TRUE">1</exTypeCode>
				</GeoBndBox>
			</geoEle>
		</dataExt>
		<geoBox esriExtentType="decdegrees">
			<westBL Sync="TRUE">-73.761209</westBL>
			<eastBL Sync="TRUE">-71.805454</eastBL>
			<northBL Sync="TRUE">41.629366</northBL>
			<southBL Sync="TRUE">40.934966</southBL>
			<exTypeCode Sync="TRUE">1</exTypeCode>
		</geoBox>
	</dataIdInfo>
	<mdLang>
		<languageCode Sync="TRUE" value="en"/>
	</mdLang>
	<mdStanName Sync="TRUE">ISO 19115 Geographic Information - Metadata</mdStanName>
	<mdStanVer Sync="TRUE">DIS_ESRI1.0</mdStanVer>
	<mdChar>
		<CharSetCd Sync="TRUE" value="004"/>
	</mdChar>
	<mdHrLv>
		<ScopeCd Sync="TRUE" value="005"/>
	</mdHrLv>
	<mdHrLvName Sync="TRUE">dataset</mdHrLvName>
	<distinfo>
		<resdesc>Coastal Connecticut 2004 Color Orthophoto</resdesc>
		<custom>The data distributor does not provide custom GIS analysis or mapping services. Data is available in a standard format and may be converted to other formats, projections, coordinate systems, or selected for specific geographic regions by the party receiving the data. </custom>
		<stdorder>
			<fees>An offline copy of the data may be accessed without charge</fees>
			<digform>
				<digtinfo>
					<formname>ArcSDE Export</formname>
					<formvern>ArcGIS 9.1</formvern>
					<formspec>ArcSDE Raster Dataset</formspec>
				</digtinfo>
				<digtopt>
					<onlinopt>
						<computer>
							<networka/>
						</computer>
					</onlinopt>
					<offoptn>
						<offmedia>disk</offmedia>
					</offoptn>
				</digtopt>
			</digform>
		</stdorder>
		<distrib>
			<cntinfo>
				<cntorgp>
					<cntorg>State of Connecticut, Department of Environmental Protection</cntorg>
				</cntorgp>
				<cntaddr>
					<addrtype>mailing and physical address</addrtype>
					<address>79 Elm Street</address>
					<city>Hartford</city>
					<state>Connecticut</state>
					<postal>06106</postal>
					<country>USA</country>
				</cntaddr>
				<cntvoice>860-424-3540</cntvoice>
				<cntemail>dep.gisdata@po.state.ct.us</cntemail>
				<cntfax>860-4244058</cntfax>
			</cntinfo>
		</distrib>
		<techpreq>Geographic information sytem (GIS), computer-aided drawing or other mapping software is necessary to display, view and access the information.</techpreq>
		<distliab>Although these data have been used by the State of Connecticut, no warranty, expressed or implied, is made by the State of Connecticut as to the accuracy of these data and or related materials.  The act of distribution shall not constitute any such warranty, and no responsibility is assumed by the State of Connecticut in the use of these data or related materials. The user assumes the entire risk related to the use of these data. Once the data is distributed to the user, modifications made to the data by the user should be noted in the metadata.</distliab>
	</distinfo>
	<distInfo>
		<distributor>
			<distorTran>
				<onLineSrc>
					<orDesc Sync="TRUE">002</orDesc>
					<linkage Sync="TRUE">file://\\depnb100\Data\GIS\Archive\Base_Map_Imagery\Ortho_2004_Coast_Color\Ortho_2004_Coast_Color_FileGeodatabase\Connecticut_Ortho_2004_Coast.gdb</linkage>
					<protocol Sync="TRUE">Local Area Network</protocol>
				</onLineSrc>
			</distorTran>
			<distorFormat>
				<formatName Sync="TRUE">File Geodatabase Raster Dataset</formatName>
			</distorFormat>
		</distributor>
	</distInfo>
	<spdoinfo>
		<direct Sync="TRUE">Raster</direct>
		<rastinfo>
			<rasttype Sync="TRUE">Pixel</rasttype>
			<rowcount Sync="TRUE">150295</rowcount>
			<colcount Sync="TRUE">315290</colcount>
			<rastxsz Sync="TRUE">1.695901</rastxsz>
			<rastysz Sync="TRUE">1.672817</rastysz>
			<rastbpp Sync="TRUE">8</rastbpp>
			<vrtcount Sync="TRUE">1</vrtcount>
			<rastorig Sync="TRUE">Upper Left</rastorig>
			<rastcmap Sync="TRUE">FALSE</rastcmap>
			<rastcomp Sync="TRUE">JPEG</rastcomp>
			<rastband Sync="TRUE">3</rastband>
			<rastdtyp Sync="TRUE">pixel codes</rastdtyp>
			<rastifor Sync="TRUE">FGDBR</rastifor>
			<rastplyr Sync="TRUE">TRUE</rastplyr>
		</rastinfo>
	</spdoinfo>
	<spref>
		<horizsys>
			<cordsysn>
				<geogcsn Sync="TRUE">GCS_North_American_1983</geogcsn>
				<projcsn Sync="TRUE">NAD_1983_StatePlane_Connecticut_FIPS_0600_Feet</projcsn>
			</cordsysn>
			<planar>
				<planci>
					<plance Sync="TRUE">row and column</plance>
					<plandu Sync="TRUE">survey feet</plandu>
					<coordrep>
						<absres Sync="TRUE">1.695901</absres>
						<ordres Sync="TRUE">1.672817</ordres>
					</coordrep>
				</planci>
				<mapproj>
					<mapprojn Sync="TRUE">Lambert Conformal Conic</mapprojn>
					<lambertc>
						<stdparll Sync="TRUE">41.200000</stdparll>
						<stdparll Sync="TRUE">41.866667</stdparll>
						<longcm Sync="TRUE">-72.750000</longcm>
						<latprjo Sync="TRUE">40.833333</latprjo>
						<feast Sync="TRUE">999999.999996</feast>
						<fnorth Sync="TRUE">499999.999998</fnorth>
					</lambertc>
				</mapproj>
			</planar>
			<geodetic>
				<horizdn Sync="TRUE">North American Datum of 1983</horizdn>
				<ellips Sync="TRUE">Geodetic Reference System 80</ellips>
				<semiaxis Sync="TRUE">6378137.000000</semiaxis>
				<denflat Sync="TRUE">298.257222</denflat>
			</geodetic>
		</horizsys>
		<vertdef>
			<altsys>
